BEGIN:VCALENDAR
VERSION:2.0
PRODID:-//www.ketchikanarts.org//NONSGML kigkonsult.se iCalcreator 2.30.10/
 /
CALSCALE:GREGORIAN
METHOD:PUBLISH
UID:f6b0cfa3-3d00-4bf7-b908-5230abbe2115
X-WR-CALDESC:Masks required\nThank you to the sponsors of the 32nd Annual W
 inter Arts Faire - First Bank: The one who's here\n
X-WR-RELCALID:1d03d58c0b5f04cf4b6bac04d49eb97d
X-WR-TIMEZONE:America/Anchorage
BEGIN:VTIMEZONE
TZID:America/Anchorage
BEGIN:STANDARD
TZNAME:AKST
DTSTART:20211107T020000
TZOFFSETFROM:-0800
TZOFFSETTO:-0900
RDATE:20221106T020000
END:STANDARD
BEGIN:DAYLIGHT
TZNAME:AKDT
DTSTART:20210314T020000
TZOFFSETFROM:-0900
TZOFFSETTO:-0800
RDATE:20220313T020000
RDATE:20230312T020000
END:DAYLIGHT
END:VTIMEZONE
BEGIN:VEVENT
UID:412d1ec5-ca4a-4da5-8de3-30b0db74810b
DTSTAMP:20260420T195300Z
DESCRIPTION:Masks required\nThank you to the sponsors of the 32nd Annual Wi
 nter Arts Faire - First Bank: The one who's here\n
DTSTART;TZID=America/Anchorage:20211128T110000
DTEND;TZID=America/Anchorage:20211128T150000
LOCATION:Saxman Community Center
SUMMARY:32nd Annual Winter Arts Faire
END:VEVENT
END:VCALENDAR
