BEGIN:VCALENDAR
VERSION:2.0
PRODID:-//www.ketchikanarts.org//NONSGML kigkonsult.se iCalcreator 2.30.10/
 /
CALSCALE:GREGORIAN
METHOD:PUBLISH
UID:f115fbcc-71e8-4dc6-aa43-7fd5a9cb3bcc
X-WR-CALDESC:Masks required\nThank you to the sponsors of the 32nd Annual W
 inter Arts Faire - First Bank: The one who's here
X-WR-RELCALID:da7512695e55df761944dfcd83461e4c
X-WR-TIMEZONE:America/Anchorage
BEGIN:VTIMEZONE
TZID:America/Anchorage
BEGIN:STANDARD
TZNAME:AKST
DTSTART:20211107T020000
TZOFFSETFROM:-0800
TZOFFSETTO:-0900
RDATE:20221106T020000
END:STANDARD
BEGIN:DAYLIGHT
TZNAME:AKDT
DTSTART:20210314T020000
TZOFFSETFROM:-0900
TZOFFSETTO:-0800
RDATE:20220313T020000
RDATE:20230312T020000
END:DAYLIGHT
END:VTIMEZONE
BEGIN:VEVENT
UID:ab7af654-493e-46bd-bfb1-bf6c752479a3
DTSTAMP:20260420T195405Z
DESCRIPTION:Masks required\nThank you to the sponsors of the 32nd Annual Wi
 nter Arts Faire - First Bank: The one who's here
DTSTART;TZID=America/Anchorage:20211127T100000
DTEND;TZID=America/Anchorage:20211127T170000
LOCATION:Saxman Community Center
SUMMARY:32nd Annual Winter Arts Faire
END:VEVENT
END:VCALENDAR
