BEGIN:VCALENDAR
VERSION:2.0
PRODID:-//www.ketchikanarts.org//NONSGML kigkonsult.se iCalcreator 2.30.10/
 /
CALSCALE:GREGORIAN
METHOD:PUBLISH
UID:66bad9ca-7187-4c2e-b2cf-180bb64700ab
X-WR-CALDESC:Opening Gala Reception \n$5 at the door and a special takeaway
  bag.\nMasks required\nThank you to the sponsors of the 32nd Annual Winter
  Arts Faire - First Bank: The one who's here\n
X-WR-RELCALID:8ddf81be36ad27b5af456f5b38fa8186
X-WR-TIMEZONE:America/Anchorage
BEGIN:VTIMEZONE
TZID:America/Anchorage
BEGIN:STANDARD
TZNAME:AKST
DTSTART:20211107T020000
TZOFFSETFROM:-0800
TZOFFSETTO:-0900
RDATE:20221106T020000
END:STANDARD
BEGIN:DAYLIGHT
TZNAME:AKDT
DTSTART:20210314T020000
TZOFFSETFROM:-0900
TZOFFSETTO:-0800
RDATE:20220313T020000
RDATE:20230312T020000
END:DAYLIGHT
END:VTIMEZONE
BEGIN:VEVENT
UID:a9446b82-e134-4ab2-807c-eee9b933606a
DTSTAMP:20260420T195301Z
DESCRIPTION:Opening Gala Reception \n$5 at the door and a special takeaway 
 bag.\nMasks required\nThank you to the sponsors of the 32nd Annual Winter 
 Arts Faire - First Bank: The one who's here\n
DTSTART;TZID=America/Anchorage:20211126T170000
DTEND;TZID=America/Anchorage:20211126T200000
LOCATION:Saxman Community Center
SUMMARY:32nd Annual Winter Arts Faire
END:VEVENT
END:VCALENDAR
