BEGIN:VCALENDAR
VERSION:2.0
PRODID:-//www.ketchikanarts.org//NONSGML kigkonsult.se iCalcreator 2.30.10/
 /
CALSCALE:GREGORIAN
METHOD:PUBLISH
UID:88d5bdf5-ee9d-490c-b769-e9009d33a137
X-WR-CALDESC:The KAAHC and the Main Street Gallery will be closed until Nov
 ember 30th! See you at the Winter Arts Faire\n
X-WR-RELCALID:46a45657c649120e970cb4359d097821
X-WR-TIMEZONE:America/Anchorage
BEGIN:VTIMEZONE
TZID:America/Anchorage
BEGIN:STANDARD
TZNAME:AKST
DTSTART:20211107T020000
TZOFFSETFROM:-0800
TZOFFSETTO:-0900
RDATE:20221106T020000
END:STANDARD
BEGIN:DAYLIGHT
TZNAME:AKDT
DTSTART:20210314T020000
TZOFFSETFROM:-0900
TZOFFSETTO:-0800
RDATE:20220313T020000
RDATE:20230312T020000
END:DAYLIGHT
END:VTIMEZONE
BEGIN:VEVENT
UID:f52260d7-d740-4f9e-863e-3065f10150fb
DTSTAMP:20260420T195128Z
DESCRIPTION:The KAAHC and the Main Street Gallery will be closed until Nove
 mber 30th! See you at the Winter Arts Faire\n
DTSTART;TZID=America/Anchorage:20211125T000000
DTEND;TZID=America/Anchorage:20211125T235900
LOCATION:Cape Fox Restaurant and Lounge
SUMMARY:Thanksgiving Day
END:VEVENT
END:VCALENDAR
