BEGIN:VCALENDAR
VERSION:2.0
PRODID:-//www.ketchikanarts.org//NONSGML kigkonsult.se iCalcreator 2.30.10/
 /
CALSCALE:GREGORIAN
METHOD:PUBLISH
UID:41498c41-b729-4235-b804-ab736d9a05b2
X-WR-CALDESC:Submit one of two proposals to exhibit artwork for the 1st Qua
 rter of 2022 at The Commons Gallery\, Ketchikan’s newest gallery space\, l
 ocated in one of Ketchikan’s newest gathering spots\, The Commons at TFCU.
  The overall focus of the new space is to support and encourage entreprene
 urial efforts by providing temporary office space\, meeting spaces\, and s
 mall business assistance. In addition\, TFCU has built a coffee bar and re
 staurant in the space which creates a commons area. It is in this commons 
 area that The Commons Gallery lives. In the entrepreneurial spirit of the 
 venue\, artists are invited to exhibit in two different ways. The vision f
 or the Commons Gallery is to help inspire emerging and established artists
  by providing flexible exhibit space for artists working in all mediums.
X-WR-RELCALID:e55bebaf9287f31f5611605417061cd2
X-WR-TIMEZONE:America/Anchorage
BEGIN:VTIMEZONE
TZID:America/Anchorage
BEGIN:STANDARD
TZNAME:AKST
DTSTART:20211107T020000
TZOFFSETFROM:-0800
TZOFFSETTO:-0900
RDATE:20221106T020000
END:STANDARD
BEGIN:DAYLIGHT
TZNAME:AKDT
DTSTART:20210314T020000
TZOFFSETFROM:-0900
TZOFFSETTO:-0800
RDATE:20220313T020000
RDATE:20230312T020000
END:DAYLIGHT
END:VTIMEZONE
BEGIN:VEVENT
UID:ca7d3951-dfb6-4b47-a510-4e9349a325d8
DTSTAMP:20260420T195020Z
DESCRIPTION:Submit one of two proposals to exhibit artwork for the 1st Quar
 ter of 2022 at The Commons Gallery\, Ketchikan’s newest gallery space\, lo
 cated in one of Ketchikan’s newest gathering spots\, The Commons at TFCU. 
 The overall focus of the new space is to support and encourage entrepreneu
 rial efforts by providing temporary office space\, meeting spaces\, and sm
 all business assistance. In addition\, TFCU has built a coffee bar and res
 taurant in the space which creates a commons area. It is in this commons a
 rea that The Commons Gallery lives. In the entrepreneurial spirit of the v
 enue\, artists are invited to exhibit in two different ways. The vision fo
 r the Commons Gallery is to help inspire emerging and established artists 
 by providing flexible exhibit space for artists working in all mediums.
DTSTART;TZID=America/Anchorage:20211122T090000
DTEND;TZID=America/Anchorage:20211122T170000
LOCATION:https://www.ketchikanarts.org/galleries/the-commons-gallery/inform
 ation-for-exhibiting-artists/
SUMMARY:The Commons Gallery Submission Deadline
END:VEVENT
END:VCALENDAR
