BEGIN:VCALENDAR
VERSION:2.0
PRODID:-//www.ketchikanarts.org//NONSGML kigkonsult.se iCalcreator 2.30.10/
 /
CALSCALE:GREGORIAN
METHOD:PUBLISH
UID:deb5c952-0953-488f-826e-604f0c2ec3f6
X-WR-CALDESC:Diane Slagle hosts  blues on-demand piano bar
X-WR-RELCALID:67886d66ccc297c2c23cbd7159f203d5
X-WR-TIMEZONE:America/Anchorage
BEGIN:VTIMEZONE
TZID:America/Anchorage
BEGIN:STANDARD
TZNAME:AKST
DTSTART:20211107T020000
TZOFFSETFROM:-0800
TZOFFSETTO:-0900
RDATE:20221106T020000
END:STANDARD
BEGIN:DAYLIGHT
TZNAME:AKDT
DTSTART:20210314T020000
TZOFFSETFROM:-0900
TZOFFSETTO:-0800
RDATE:20220313T020000
RDATE:20230312T020000
END:DAYLIGHT
END:VTIMEZONE
BEGIN:VEVENT
UID:52b38df3-75f4-4e8c-a5a5-e7b1e90fc49a
DTSTAMP:20260420T195249Z
DESCRIPTION:Diane Slagle hosts  blues on-demand piano bar
DTSTART;TZID=America/Anchorage:20211120T170000
DTEND;TZID=America/Anchorage:20211120T200000
LOCATION:Alaska Fish House
SUMMARY:Piano Bar with Diane Slagle
END:VEVENT
END:VCALENDAR
