BEGIN:VCALENDAR
VERSION:2.0
PRODID:-//www.ketchikanarts.org//NONSGML kigkonsult.se iCalcreator 2.30.10/
 /
CALSCALE:GREGORIAN
METHOD:PUBLISH
UID:97e36b3d-29af-47a1-8a9c-fc6a49afa0f6
X-WR-CALDESC:Shop Local Saturdays Market\nEnjoy\, shop\, support local art 
 vendors\, and enjoy the awesome artwork at The Commons Gallery!!!\n9:00 am
  - 4:00 pm The Commons at TFCU  
X-WR-RELCALID:071ed48442a0df9734e64f6ed3565efb
X-WR-TIMEZONE:America/Anchorage
BEGIN:VTIMEZONE
TZID:America/Anchorage
BEGIN:STANDARD
TZNAME:AKST
DTSTART:20211107T020000
TZOFFSETFROM:-0800
TZOFFSETTO:-0900
RDATE:20221106T020000
END:STANDARD
BEGIN:DAYLIGHT
TZNAME:AKDT
DTSTART:20210314T020000
TZOFFSETFROM:-0900
TZOFFSETTO:-0800
RDATE:20220313T020000
RDATE:20230312T020000
END:DAYLIGHT
END:VTIMEZONE
BEGIN:VEVENT
UID:e95a38b9-522f-422f-ab3e-8a0fc5c5abe6
DTSTAMP:20260420T200342Z
DESCRIPTION:Shop Local Saturdays Market\nEnjoy\, shop\, support local art v
 endors\, and enjoy the awesome artwork at The Commons Gallery!!!\n9:00 am 
 - 4:00 pm The Commons at TFCU  
DTSTART;TZID=America/Anchorage:20211120T090000
DTEND;TZID=America/Anchorage:20211120T160000
LOCATION:The Commons at TFCU
SUMMARY:The Commons - Market Shop Local Saturday
END:VEVENT
END:VCALENDAR
