BEGIN:VCALENDAR
VERSION:2.0
PRODID:-//www.ketchikanarts.org//NONSGML kigkonsult.se iCalcreator 2.30.10/
 /
CALSCALE:GREGORIAN
METHOD:PUBLISH
UID:805275be-5baf-439b-898d-b345d27305b1
X-WR-CALDESC:First City Players and KPU proudly present Pippin A Musical. D
 irected by Bridget Mattson\nKayHi Auditorium \nNovember 5\, 6\, 12 & 13 at
  7:30 pm \nNovember 7th and 14th at 2:30 pm\nTickets are on sale NOW! Vary
 ing prices. Advance purchase only. NO tickets will be sold at the door!!!
 \nMasks are required. Seating will be limited due to Covid distances seati
 ng\, so get your tickets early!\n\nSpecial thank you to KPU Telecommunicat
 ions for helping to make this show happen!
X-WR-RELCALID:023834e4d1d05314052286e49a5d4f36
X-WR-TIMEZONE:America/Anchorage
BEGIN:VTIMEZONE
TZID:America/Anchorage
BEGIN:STANDARD
TZNAME:AKST
DTSTART:20211107T020000
TZOFFSETFROM:-0800
TZOFFSETTO:-0900
RDATE:20221106T020000
END:STANDARD
BEGIN:DAYLIGHT
TZNAME:AKDT
DTSTART:20210314T020000
TZOFFSETFROM:-0900
TZOFFSETTO:-0800
RDATE:20220313T020000
RDATE:20230312T020000
END:DAYLIGHT
END:VTIMEZONE
BEGIN:VEVENT
UID:2fc45498-cf99-4d6f-9735-1115a5c8d7c3
DTSTAMP:20260420T194825Z
DESCRIPTION:First City Players and KPU proudly present Pippin A Musical. Di
 rected by Bridget Mattson\nKayHi Auditorium \nNovember 5\, 6\, 12 & 13 at 
 7:30 pm \nNovember 7th and 14th at 2:30 pm\nTickets are on sale NOW! Varyi
 ng prices. Advance purchase only. NO tickets will be sold at the door!!!\n
 Masks are required. Seating will be limited due to Covid distances seating
 \, so get your tickets early!\n\nSpecial thank you to KPU Telecommunicatio
 ns for helping to make this show happen!
DTSTART;TZID=America/Anchorage:20211114T143000
DTEND;TZID=America/Anchorage:20211114T163000
LOCATION:
SUMMARY:Pippin A Musical
END:VEVENT
END:VCALENDAR
