BEGIN:VCALENDAR
VERSION:2.0
PRODID:-//www.ketchikanarts.org//NONSGML kigkonsult.se iCalcreator 2.30.10/
 /
CALSCALE:GREGORIAN
METHOD:PUBLISH
UID:8c9bb594-deee-4468-9eaa-16d927ac866f
X-WR-CALDESC:Arts Uncorked at the Main Street Gallery\nLearn and create a b
 eautiful Filipino Christmas Lantern to hang in your window!\nAll supplies 
 provided!\n$30 to preregister\, $40 week of the class
X-WR-RELCALID:a3b0ce152974656d4a2cc98c93294a45
X-WR-TIMEZONE:America/Anchorage
BEGIN:VTIMEZONE
TZID:America/Anchorage
BEGIN:STANDARD
TZNAME:AKST
DTSTART:20211107T020000
TZOFFSETFROM:-0800
TZOFFSETTO:-0900
RDATE:20221106T020000
END:STANDARD
BEGIN:DAYLIGHT
TZNAME:AKDT
DTSTART:20210314T020000
TZOFFSETFROM:-0900
TZOFFSETTO:-0800
RDATE:20220313T020000
RDATE:20230312T020000
END:DAYLIGHT
END:VTIMEZONE
BEGIN:VEVENT
UID:8525198f-d1d7-4a1b-8625-6d4dddeac147
DTSTAMP:20260420T194819Z
DESCRIPTION:Arts Uncorked at the Main Street Gallery\nLearn and create a be
 autiful Filipino Christmas Lantern to hang in your window!\nAll supplies p
 rovided!\n$30 to preregister\, $40 week of the class
DTSTART;TZID=America/Anchorage:20211112T190000
DTEND;TZID=America/Anchorage:20211112T210000
LOCATION:The Main Street Gallery
SUMMARY:Parol Making Class
END:VEVENT
END:VCALENDAR
