BEGIN:VCALENDAR
VERSION:2.0
PRODID:-//www.ketchikanarts.org//NONSGML kigkonsult.se iCalcreator 2.30.10/
 /
CALSCALE:GREGORIAN
METHOD:PUBLISH
UID:4d3b617e-4e2c-4bfd-86c3-f37cf2be0ca5
X-WR-CALDESC:'Mycelium\, Earth's Grid' is a solo exhibit by Ketchikan artis
 t Mary Ida Henrikson. An original series of vibrant oil on canvases celebr
 ating Mycelium\, with its tendrils woven underground\, through the forest 
 connecting us all. The artist is excited to share new techniques she has b
 een exploring including a grid system that she has been using in her most 
 recent work\, \n \n \n
X-WR-RELCALID:688dd04b5fe11ac332dcb1ff13583e22
X-WR-TIMEZONE:America/Anchorage
BEGIN:VTIMEZONE
TZID:America/Anchorage
BEGIN:STANDARD
TZNAME:AKST
DTSTART:20211107T020000
TZOFFSETFROM:-0800
TZOFFSETTO:-0900
RDATE:20221106T020000
END:STANDARD
BEGIN:DAYLIGHT
TZNAME:AKDT
DTSTART:20210314T020000
TZOFFSETFROM:-0900
TZOFFSETTO:-0800
RDATE:20220313T020000
RDATE:20230312T020000
END:DAYLIGHT
END:VTIMEZONE
BEGIN:VEVENT
UID:d19dfaad-6a41-4bb6-96f0-cae98e5ca7c2
DTSTAMP:20260420T195130Z
DESCRIPTION:'Mycelium\, Earth's Grid' is a solo exhibit by Ketchikan artist
  Mary Ida Henrikson. An original series of vibrant oil on canvases celebra
 ting Mycelium\, with its tendrils woven underground\, through the forest c
 onnecting us all. The artist is excited to share new techniques she has be
 en exploring including a grid system that she has been using in her most r
 ecent work\, \n \n \n
DTSTART;TZID=America/Anchorage:20211108T090000
DTEND;TZID=America/Anchorage:20211124T170000
LOCATION:The Main Street Gallery
SUMMARY:'Mycelium\, Earth's Grid' - Mary Ida Henrikson
END:VEVENT
END:VCALENDAR
