BEGIN:VCALENDAR
VERSION:2.0
PRODID:-//www.ketchikanarts.org//NONSGML kigkonsult.se iCalcreator 2.30.10/
 /
CALSCALE:GREGORIAN
METHOD:PUBLISH
UID:b45f6a0c-6309-4540-832a-e3f9310c07f2
X-WR-CALDESC:Artist Presentation: November 6th at 1:00 pm “The Magic of Myc
 elium Revealed” The Artist explains the connection between Mycelium and Mo
 ther Earth and Mycelium’s role in breaking rock and creating soil. \n \n
X-WR-RELCALID:bb0548331e73dba0e2449d91e49057f9
X-WR-TIMEZONE:America/Anchorage
BEGIN:VTIMEZONE
TZID:America/Anchorage
BEGIN:STANDARD
TZNAME:AKST
DTSTART:20211107T020000
TZOFFSETFROM:-0800
TZOFFSETTO:-0900
RDATE:20221106T020000
END:STANDARD
BEGIN:DAYLIGHT
TZNAME:AKDT
DTSTART:20210314T020000
TZOFFSETFROM:-0900
TZOFFSETTO:-0800
RDATE:20220313T020000
RDATE:20230312T020000
END:DAYLIGHT
END:VTIMEZONE
BEGIN:VEVENT
UID:fe185b5d-ea81-441f-a857-72c31ec8b369
DTSTAMP:20260420T195251Z
DESCRIPTION:Artist Presentation: November 6th at 1:00 pm “The Magic of Myce
 lium Revealed” The Artist explains the connection between Mycelium and Mot
 her Earth and Mycelium’s role in breaking rock and creating soil. \n \n
DTSTART;TZID=America/Anchorage:20211106T130000
DTEND;TZID=America/Anchorage:20211106T143000
LOCATION:
SUMMARY:Artist Presentation with Mary Ida Henrikson
END:VEVENT
END:VCALENDAR
