BEGIN:VCALENDAR
VERSION:2.0
PRODID:-//www.ketchikanarts.org//NONSGML kigkonsult.se iCalcreator 2.30.10/
 /
CALSCALE:GREGORIAN
METHOD:PUBLISH
UID:443956c8-5cad-4d79-b218-a19b8a4e04ff
X-WR-CALDESC:Shop Local Saturdays Market\nEnjoy\, shop\, support local art 
 vendors\, and enjoy the awesome artwork at The Commons Gallery!!!\n9:00 am
  - 4:00 pm The Commons at TFCU  
X-WR-RELCALID:1f525c195f7ca4c6020a2653d08a213d
X-WR-TIMEZONE:America/Anchorage
BEGIN:VTIMEZONE
TZID:America/Anchorage
BEGIN:STANDARD
TZNAME:AKST
DTSTART:20211107T020000
TZOFFSETFROM:-0800
TZOFFSETTO:-0900
RDATE:20221106T020000
END:STANDARD
BEGIN:DAYLIGHT
TZNAME:AKDT
DTSTART:20210314T020000
TZOFFSETFROM:-0900
TZOFFSETTO:-0800
RDATE:20220313T020000
RDATE:20230312T020000
END:DAYLIGHT
END:VTIMEZONE
BEGIN:VEVENT
UID:2105503a-4c11-4e7b-bdf4-ca791ea6a75b
DTSTAMP:20260420T201000Z
DESCRIPTION:Shop Local Saturdays Market\nEnjoy\, shop\, support local art v
 endors\, and enjoy the awesome artwork at The Commons Gallery!!!\n9:00 am 
 - 4:00 pm The Commons at TFCU  
DTSTART;TZID=America/Anchorage:20211106T090000
DTEND;TZID=America/Anchorage:20211106T160000
LOCATION:The Commons at TFCU
SUMMARY:The Commons - Market Shop Local Saturday
END:VEVENT
END:VCALENDAR
