BEGIN:VCALENDAR
VERSION:2.0
PRODID:-//www.ketchikanarts.org//NONSGML kigkonsult.se iCalcreator 2.30.10/
 /
CALSCALE:GREGORIAN
METHOD:PUBLISH
UID:ab4cbce2-0e0d-4f38-b087-6e05fa45e049
X-WR-CALDESC:We are excited to announce that an Indigenous music festival i
 s coming to Juneau! It will take place virtually during Native American an
 d Alaska Native Heritage Month\, on November 5 and 6. Indigenous people ha
 ve been underrepresented in music for a long time. That is why Qacung Yufr
 ican Stephen Blanchett of Pamyua wanted to create this festival.\n“There a
 re few opportunities for Indigenous performers to headline at music festiv
 als\, let alone\, a festival dedicated to Indigenous musical expression.”
 \nRock Aak’w will feature 13 Indigenous groups from around the world\, inc
 luding Pamyua\, Ya Tseen\, Snotty Nose Rez Kids\, Supaman\, and many more!
  Go to www.rockaakwfestival.org for the full lineup!\nRock Aak’w is co-spo
 nsored by the Juneau Arts and Humanities\, the National Endowment for the 
 Arts\, Tlingit & Haida\, WESTAF\, Alaska Airlines\, KTOO\, and Sealaska He
 ritage Institute.
X-WR-RELCALID:32b8bfe7d97491c51ffa06c47ca0e6f5
X-WR-TIMEZONE:America/Anchorage
BEGIN:VTIMEZONE
TZID:America/Anchorage
BEGIN:STANDARD
TZNAME:AKST
DTSTART:20211107T020000
TZOFFSETFROM:-0800
TZOFFSETTO:-0900
RDATE:20221106T020000
END:STANDARD
BEGIN:DAYLIGHT
TZNAME:AKDT
DTSTART:20210314T020000
TZOFFSETFROM:-0900
TZOFFSETTO:-0800
RDATE:20220313T020000
RDATE:20230312T020000
END:DAYLIGHT
END:VTIMEZONE
BEGIN:VEVENT
UID:11716f43-41f6-4398-92f7-d8580967ecc3
DTSTAMP:20260420T195251Z
DESCRIPTION:We are excited to announce that an Indigenous music festival is
  coming to Juneau! It will take place virtually during Native American and
  Alaska Native Heritage Month\, on November 5 and 6. Indigenous people hav
 e been underrepresented in music for a long time. That is why Qacung Yufri
 can Stephen Blanchett of Pamyua wanted to create this festival.\n“There ar
 e few opportunities for Indigenous performers to headline at music festiva
 ls\, let alone\, a festival dedicated to Indigenous musical expression.”\n
 Rock Aak’w will feature 13 Indigenous groups from around the world\, inclu
 ding Pamyua\, Ya Tseen\, Snotty Nose Rez Kids\, Supaman\, and many more! G
 o to www.rockaakwfestival.org for the full lineup!\nRock Aak’w is co-spons
 ored by the Juneau Arts and Humanities\, the National Endowment for the Ar
 ts\, Tlingit & Haida\, WESTAF\, Alaska Airlines\, KTOO\, and Sealaska Heri
 tage Institute.
DTSTART;TZID=America/Anchorage:20211105T000000
DTEND;TZID=America/Anchorage:20211105T235900
LOCATION:
SUMMARY:Rock Aak'w Festival
END:VEVENT
END:VCALENDAR
