BEGIN:VCALENDAR
VERSION:2.0
PRODID:-//www.ketchikanarts.org//NONSGML kigkonsult.se iCalcreator 2.30.10/
 /
CALSCALE:GREGORIAN
METHOD:PUBLISH
UID:d85a3ca0-df69-4127-af56-28672d2004c9
X-WR-CALDESC:Opening reception for 'Mycelium\, Earth's Grid' a solo exhibit
  by Ketchikan artist Mary Ida Henrikson. An original series of vibrant oil
  on canvases celebrating Mycelium\, with its tendrils woven underground\, 
 through the forest connecting us all. The artist is excited to share new t
 echniques she has been exploring including a grid system that she has been
  using in her most recent work\, \n \n \n
X-WR-RELCALID:998817651c54b8cb2bb5768d9f601a8e
X-WR-TIMEZONE:America/Anchorage
BEGIN:VTIMEZONE
TZID:America/Anchorage
BEGIN:STANDARD
TZNAME:AKST
DTSTART:20211107T020000
TZOFFSETFROM:-0800
TZOFFSETTO:-0900
RDATE:20221106T020000
END:STANDARD
BEGIN:DAYLIGHT
TZNAME:AKDT
DTSTART:20210314T020000
TZOFFSETFROM:-0900
TZOFFSETTO:-0800
RDATE:20220313T020000
RDATE:20230312T020000
END:DAYLIGHT
END:VTIMEZONE
BEGIN:VEVENT
UID:2285d21e-bdb6-45d4-bb76-ae473aa513a3
DTSTAMP:20260420T194947Z
DESCRIPTION:Opening reception for 'Mycelium\, Earth's Grid' a solo exhibit 
 by Ketchikan artist Mary Ida Henrikson. An original series of vibrant oil 
 on canvases celebrating Mycelium\, with its tendrils woven underground\, t
 hrough the forest connecting us all. The artist is excited to share new te
 chniques she has been exploring including a grid system that she has been 
 using in her most recent work\, \n \n \n
DTSTART;TZID=America/Anchorage:20211105T170000
DTEND;TZID=America/Anchorage:20211105T190000
LOCATION:The Main Street Gallery
SUMMARY:'Mycelium\, Earth's Grid' exhibit opening
END:VEVENT
END:VCALENDAR
