BEGIN:VCALENDAR
VERSION:2.0
PRODID:-//www.ketchikanarts.org//NONSGML kigkonsult.se iCalcreator 2.30.10/
 /
CALSCALE:GREGORIAN
METHOD:PUBLISH
UID:a21f52a0-908f-4c3d-ba45-57ff109bb1ec
X-WR-CALDESC:David R. Boxley  addresses  efforts to create new Sm'algyax sp
 eakers
X-WR-RELCALID:78ee0f001ee8542cfcf60c67541b7ecd
X-WR-TIMEZONE:America/Anchorage
BEGIN:VTIMEZONE
TZID:America/Anchorage
BEGIN:STANDARD
TZNAME:AKST
DTSTART:20211107T020000
TZOFFSETFROM:-0800
TZOFFSETTO:-0900
RDATE:20221106T020000
END:STANDARD
BEGIN:DAYLIGHT
TZNAME:AKDT
DTSTART:20210314T020000
TZOFFSETFROM:-0900
TZOFFSETTO:-0800
RDATE:20220313T020000
RDATE:20230312T020000
END:DAYLIGHT
END:VTIMEZONE
BEGIN:VEVENT
UID:f230c861-f12d-43b5-971f-ef8fef1c6e5d
DTSTAMP:20260420T194950Z
DESCRIPTION:David R. Boxley  addresses  efforts to create new Sm'algyax spe
 akers
DTSTART;TZID=America/Anchorage:20211104T120000
DTEND;TZID=America/Anchorage:20211104T130000
LOCATION:https://www.facebook.com/events/598656021150701
SUMMARY:Museum Midday - HAAYK Foundation
END:VEVENT
END:VCALENDAR
