BEGIN:VCALENDAR
VERSION:2.0
PRODID:-//www.ketchikanarts.org//NONSGML kigkonsult.se iCalcreator 2.30.10/
 /
CALSCALE:GREGORIAN
METHOD:PUBLISH
UID:075f0de3-434d-4a5a-a5c5-6bb71248c13d
X-WR-CALDESC:National Novel Writing Month kicks off on Monday\, November 1s
 t. This year\, not only is the UAS Ketchikan Campus Library collaborating 
 with the Public Library but also collaborating with the Ketchikan Area Art
 s and Humanities Council!!!! The program is open to teens and adults and i
 s FREE.  There will be prizes\,  (Thank you Friends of the Public Library 
 for funding to cover NaNoWriMo prizes!) and an award-winning filmmaker as 
 a guest speaker\, and.... drumroll... IN-PERSON 'DROP-IN WRITE' SESSIONS a
 t the Main Street Gallery!\n\nStarting Monday\, stop in at the Public Libr
 ary or the Campus Library at any time during normal business hours to sign
  up for the program. For the entire month\, any day you stop in at either 
 library to write or check out a book on writing\, stop at the circ desk to
  fill out a ticket for the weekly and grand prize drawings. \n\nFreestyle 
 'drop-in write' sessions in-person will be held the last four Mondays of N
 ovember (8th\, 15th\, 22nd\, and 29th) at The Main Street Gallery\, genera
 lly from 5 pm to 7 pm\, with some wiggle room to write a bit later than th
 at if people are enthusiastic. Tables\, chairs\, and power receptacles wil
 l be provided\, and guest wi-fi access. If you bring drink or food\, pleas
 e make sure it is in covered containers\, non-smelly\, and of a nature tha
 t can be easily cleaned if spilled. \n\nFinally\, author and award-winning
  documentary filmmaker Ward Serrill will be giving a talk via ZOOM and tak
 ing questions on script-writing for documentaries on November 29th\, at th
 e Main Street Gallery. This will be open to anyone in the community\, not 
 just NaNoWriMo program participants.
X-WR-RELCALID:940ece0037d1f927171240814df67df0
X-WR-TIMEZONE:America/Anchorage
BEGIN:VTIMEZONE
TZID:America/Anchorage
BEGIN:STANDARD
TZNAME:AKST
DTSTART:20201101T020000
TZOFFSETFROM:-0800
TZOFFSETTO:-0900
RDATE:20211107T020000
RDATE:20221106T020000
END:STANDARD
BEGIN:DAYLIGHT
TZNAME:AKDT
DTSTART:20210314T020000
TZOFFSETFROM:-0900
TZOFFSETTO:-0800
RDATE:20220313T020000
RDATE:20230312T020000
END:DAYLIGHT
END:VTIMEZONE
BEGIN:VEVENT
UID:13862d7f-dc45-452a-8328-03ad126175c6
DTSTAMP:20260420T194949Z
DESCRIPTION:National Novel Writing Month kicks off on Monday\, November 1st
 . This year\, not only is the UAS Ketchikan Campus Library collaborating w
 ith the Public Library but also collaborating with the Ketchikan Area Arts
  and Humanities Council!!!! The program is open to teens and adults and is
  FREE.  There will be prizes\,  (Thank you Friends of the Public Library f
 or funding to cover NaNoWriMo prizes!) and an award-winning filmmaker as a
  guest speaker\, and.... drumroll... IN-PERSON 'DROP-IN WRITE' SESSIONS at
  the Main Street Gallery!\n\nStarting Monday\, stop in at the Public Libra
 ry or the Campus Library at any time during normal business hours to sign 
 up for the program. For the entire month\, any day you stop in at either l
 ibrary to write or check out a book on writing\, stop at the circ desk to 
 fill out a ticket for the weekly and grand prize drawings. \n\nFreestyle '
 drop-in write' sessions in-person will be held the last four Mondays of No
 vember (8th\, 15th\, 22nd\, and 29th) at The Main Street Gallery\, general
 ly from 5 pm to 7 pm\, with some wiggle room to write a bit later than tha
 t if people are enthusiastic. Tables\, chairs\, and power receptacles will
  be provided\, and guest wi-fi access. If you bring drink or food\, please
  make sure it is in covered containers\, non-smelly\, and of a nature that
  can be easily cleaned if spilled. \n\nFinally\, author and award-winning 
 documentary filmmaker Ward Serrill will be giving a talk via ZOOM and taki
 ng questions on script-writing for documentaries on November 29th\, at the
  Main Street Gallery. This will be open to anyone in the community\, not j
 ust NaNoWriMo program participants.
DTSTART;TZID=America/Anchorage:20211101T000000
DTEND;TZID=America/Anchorage:20211101T235900
LOCATION:The Main Street Gallery
SUMMARY:NANOWRIMO STARTS
END:VEVENT
END:VCALENDAR
