BEGIN:VCALENDAR
VERSION:2.0
PRODID:-//www.ketchikanarts.org//NONSGML kigkonsult.se iCalcreator 2.30.10/
 /
CALSCALE:GREGORIAN
METHOD:PUBLISH
UID:bb3361f3-e316-41e0-90b1-f51b0bdad2cc
X-WR-CALDESC:Call for Art: 2023 Bear Gallery Exhibitions\nEntry Period: Aug
 ust 1 – October 31\, 2021\nThe Visual Arts Committee of Fairbanks Arts Ass
 ociation invites artists and artisans residing in  Alaska to submit for re
 view digital images of their work for possible solo\, group\, or curated e
 xhibitions in the Bear Gallery for the year 2023. Every month\, the Bear G
 allery shows two fine arts exhibitions by Alaskan artists/artist groups wo
 rking in a variety of media to local and out-of-town visitors of Fairbanks
 . Portfolios are reviewed by a panel of professional Alaskan artists and a
 re chosen solely on the merit of the work samples entered.\n\nPortfolios m
 ay propose the following type of exhibitions:\n\nSolo Exhibition: One arti
 st\nGroup: Separate works of two or more artists\nCurated: Curator selects
  a theme\, conceptual focus\, and included artwork\n\nThe submission deadl
 ine is October 31\, 2021\, 11:59pm MST.
X-WR-RELCALID:45027e2d355f750044029baaf8c91027
X-WR-TIMEZONE:America/Anchorage
BEGIN:VTIMEZONE
TZID:America/Anchorage
BEGIN:STANDARD
TZNAME:AKST
DTSTART:20201101T020000
TZOFFSETFROM:-0800
TZOFFSETTO:-0900
RDATE:20211107T020000
RDATE:20221106T020000
END:STANDARD
BEGIN:DAYLIGHT
TZNAME:AKDT
DTSTART:20210314T020000
TZOFFSETFROM:-0900
TZOFFSETTO:-0800
RDATE:20220313T020000
RDATE:20230312T020000
END:DAYLIGHT
END:VTIMEZONE
BEGIN:VEVENT
UID:bc633559-810b-4c88-99d5-9af78405d329
DTSTAMP:20260420T212709Z
DESCRIPTION:Call for Art: 2023 Bear Gallery Exhibitions\nEntry Period: Augu
 st 1 – October 31\, 2021\nThe Visual Arts Committee of Fairbanks Arts Asso
 ciation invites artists and artisans residing in  Alaska to submit for rev
 iew digital images of their work for possible solo\, group\, or curated ex
 hibitions in the Bear Gallery for the year 2023. Every month\, the Bear Ga
 llery shows two fine arts exhibitions by Alaskan artists/artist groups wor
 king in a variety of media to local and out-of-town visitors of Fairbanks.
  Portfolios are reviewed by a panel of professional Alaskan artists and ar
 e chosen solely on the merit of the work samples entered.\n\nPortfolios ma
 y propose the following type of exhibitions:\n\nSolo Exhibition: One artis
 t\nGroup: Separate works of two or more artists\nCurated: Curator selects 
 a theme\, conceptual focus\, and included artwork\n\nThe submission deadli
 ne is October 31\, 2021\, 11:59pm MST.
DTSTART;TZID=America/Anchorage:20211031T000000
DTEND;TZID=America/Anchorage:20211031T235900
LOCATION:
SUMMARY:Bear Gallery Call to Artists
END:VEVENT
END:VCALENDAR
