BEGIN:VCALENDAR
VERSION:2.0
PRODID:-//www.ketchikanarts.org//NONSGML kigkonsult.se iCalcreator 2.30.10/
 /
CALSCALE:GREGORIAN
METHOD:PUBLISH
UID:3fb2f3c8-ef60-4c52-ad5f-d97cfb245b94
X-WR-CALDESC:The Asylum Halloween Party
X-WR-RELCALID:ac9f049865d0bcce1d465b6f00a8c0fc
X-WR-TIMEZONE:America/Anchorage
BEGIN:VTIMEZONE
TZID:America/Anchorage
BEGIN:STANDARD
TZNAME:AKST
DTSTART:20201101T020000
TZOFFSETFROM:-0800
TZOFFSETTO:-0900
RDATE:20211107T020000
RDATE:20221106T020000
END:STANDARD
BEGIN:DAYLIGHT
TZNAME:AKDT
DTSTART:20210314T020000
TZOFFSETFROM:-0900
TZOFFSETTO:-0800
RDATE:20220313T020000
RDATE:20230312T020000
END:DAYLIGHT
END:VTIMEZONE
BEGIN:VEVENT
UID:f62a5006-f6a5-4404-b213-bbf7461573c4
DTSTAMP:20260420T212734Z
DESCRIPTION:The Asylum Halloween Party
DTSTART;TZID=America/Anchorage:20211031T210000
DTEND;TZID=America/Anchorage:20211031T233000
LOCATION:
SUMMARY:Arrow to the Knee
END:VEVENT
END:VCALENDAR
