BEGIN:VCALENDAR
VERSION:2.0
PRODID:-//www.ketchikanarts.org//NONSGML kigkonsult.se iCalcreator 2.30.10/
 /
CALSCALE:GREGORIAN
METHOD:PUBLISH
UID:1a9444dd-3cd4-458b-8416-77c955c6f540
X-WR-CALDESC:Open Mic\nFeaturing the talents of Cullen McCormick and Chazz 
 Gist\n$5 Cover\, Must be 21 years of age or accompanied by a parent or gua
 rdian.\n
X-WR-RELCALID:5408cef7fccc931e398508b0456183cb
X-WR-TIMEZONE:America/Anchorage
BEGIN:VTIMEZONE
TZID:America/Anchorage
BEGIN:STANDARD
TZNAME:AKST
DTSTART:20201101T020000
TZOFFSETFROM:-0800
TZOFFSETTO:-0900
RDATE:20211107T020000
RDATE:20221106T020000
END:STANDARD
BEGIN:DAYLIGHT
TZNAME:AKDT
DTSTART:20210314T020000
TZOFFSETFROM:-0900
TZOFFSETTO:-0800
RDATE:20220313T020000
RDATE:20230312T020000
END:DAYLIGHT
END:VTIMEZONE
BEGIN:VEVENT
UID:bf886c15-4366-4a00-9a3d-7a9ffb7a3a8a
DTSTAMP:20260420T213349Z
DESCRIPTION:Open Mic\nFeaturing the talents of Cullen McCormick and Chazz G
 ist\n$5 Cover\, Must be 21 years of age or accompanied by a parent or guar
 dian.\n
DTSTART;TZID=America/Anchorage:20211031T180000
DTEND;TZID=America/Anchorage:20211031T210000
LOCATION:Creek Street Cabaret
SUMMARY:Open Mic with Joe Williams IV\, Cullen McCormick\, and Friends
END:VEVENT
END:VCALENDAR
