BEGIN:VCALENDAR
VERSION:2.0
PRODID:-//www.ketchikanarts.org//NONSGML kigkonsult.se iCalcreator 2.30.10/
 /
CALSCALE:GREGORIAN
METHOD:PUBLISH
UID:b0680c4b-07d5-4694-a598-d852ed1f57e6
X-WR-CALDESC:ASK UAS Presents\, 'Neuroplasticity: How to Train an Old Brain
  New Tricks\,' with Dr. Charmaine Robinson. This live lecture will be broa
 dcast via Facebook Live on October 28 at 6 pm.  Free event\, no Facebook a
 ccount necessary to view.
X-WR-RELCALID:3a40b42acc356aaac128fecce7296082
X-WR-TIMEZONE:America/Anchorage
BEGIN:VTIMEZONE
TZID:America/Anchorage
BEGIN:STANDARD
TZNAME:AKST
DTSTART:20201101T020000
TZOFFSETFROM:-0800
TZOFFSETTO:-0900
RDATE:20211107T020000
RDATE:20221106T020000
END:STANDARD
BEGIN:DAYLIGHT
TZNAME:AKDT
DTSTART:20210314T020000
TZOFFSETFROM:-0900
TZOFFSETTO:-0800
RDATE:20220313T020000
RDATE:20230312T020000
END:DAYLIGHT
END:VTIMEZONE
BEGIN:VEVENT
UID:fe4486ec-a1ec-4d3e-bb32-f9503a74cf8d
DTSTAMP:20260420T212544Z
DESCRIPTION:ASK UAS Presents\, 'Neuroplasticity: How to Train an Old Brain 
 New Tricks\,' with Dr. Charmaine Robinson. This live lecture will be broad
 cast via Facebook Live on October 28 at 6 pm.  Free event\, no Facebook ac
 count necessary to view.
DTSTART;TZID=America/Anchorage:20211028T180000
DTEND;TZID=America/Anchorage:20211028T190000
LOCATION:
SUMMARY:Ask UAS - Neuroplasticity
END:VEVENT
END:VCALENDAR
