BEGIN:VCALENDAR
VERSION:2.0
PRODID:-//www.ketchikanarts.org//NONSGML kigkonsult.se iCalcreator 2.30.10/
 /
CALSCALE:GREGORIAN
METHOD:PUBLISH
UID:a2c574bb-6f49-45c8-a92e-0f24f9dbb8e7
X-WR-CALDESC:Meet Daniel Hoffman author of 'An Alaska Flyfisher's Odyssey' 
 at the Main Street Gallery and have him sign a  copy of his book for you! 
 Brief presentation and books available for purchase.
X-WR-RELCALID:00c690846875a8de0159a0999c8a4e63
X-WR-TIMEZONE:America/Anchorage
BEGIN:VTIMEZONE
TZID:America/Anchorage
BEGIN:STANDARD
TZNAME:AKST
DTSTART:20201101T020000
TZOFFSETFROM:-0800
TZOFFSETTO:-0900
RDATE:20211107T020000
RDATE:20221106T020000
END:STANDARD
BEGIN:DAYLIGHT
TZNAME:AKDT
DTSTART:20210314T020000
TZOFFSETFROM:-0900
TZOFFSETTO:-0800
RDATE:20220313T020000
RDATE:20230312T020000
END:DAYLIGHT
END:VTIMEZONE
BEGIN:VEVENT
UID:00683019-cb5d-4219-b318-01bdddbfb0a0
DTSTAMP:20260420T212546Z
DESCRIPTION:Meet Daniel Hoffman author of 'An Alaska Flyfisher's Odyssey' a
 t the Main Street Gallery and have him sign a  copy of his book for you! B
 rief presentation and books available for purchase.
DTSTART;TZID=America/Anchorage:20211025T180000
DTEND;TZID=America/Anchorage:20211025T200000
LOCATION:
SUMMARY:Book signing with author Danelle Hoffman
END:VEVENT
END:VCALENDAR
