BEGIN:VCALENDAR
VERSION:2.0
PRODID:-//www.ketchikanarts.org//NONSGML kigkonsult.se iCalcreator 2.30.10/
 /
CALSCALE:GREGORIAN
METHOD:PUBLISH
UID:ef32bb4e-e8b6-48f7-8790-5604dfaecd0f
X-WR-CALDESC:One of Southern  California's favorite dance bands! \n$10 cove
 r
X-WR-RELCALID:f77b2059bba3b0d8a1f053fe6e906778
X-WR-TIMEZONE:America/Anchorage
BEGIN:VTIMEZONE
TZID:America/Anchorage
BEGIN:STANDARD
TZNAME:AKST
DTSTART:20201101T020000
TZOFFSETFROM:-0800
TZOFFSETTO:-0900
RDATE:20211107T020000
RDATE:20221106T020000
END:STANDARD
BEGIN:DAYLIGHT
TZNAME:AKDT
DTSTART:20210314T020000
TZOFFSETFROM:-0900
TZOFFSETTO:-0800
RDATE:20220313T020000
RDATE:20230312T020000
END:DAYLIGHT
END:VTIMEZONE
BEGIN:VEVENT
UID:6fc62311-7ba0-4b63-a96d-6952a6ab2980
DTSTAMP:20260420T213154Z
DESCRIPTION:One of Southern  California's favorite dance bands! \n$10 cover
DTSTART;TZID=America/Anchorage:20211023T200000
DTEND;TZID=America/Anchorage:20211023T223000
LOCATION:
SUMMARY:Rebel Heart - Modern Country Music
END:VEVENT
END:VCALENDAR
