BEGIN:VCALENDAR
VERSION:2.0
PRODID:-//www.ketchikanarts.org//NONSGML kigkonsult.se iCalcreator 2.30.10/
 /
CALSCALE:GREGORIAN
METHOD:PUBLISH
UID:d71af009-10e5-4410-8761-e91d5f69836a
X-WR-CALDESC:One of Southern  California's favorite dance bands!
X-WR-RELCALID:8be43545208fcb15684aba3aba15178b
X-WR-TIMEZONE:America/Anchorage
BEGIN:VTIMEZONE
TZID:America/Anchorage
BEGIN:STANDARD
TZNAME:AKST
DTSTART:20201101T020000
TZOFFSETFROM:-0800
TZOFFSETTO:-0900
RDATE:20211107T020000
RDATE:20221106T020000
END:STANDARD
BEGIN:DAYLIGHT
TZNAME:AKDT
DTSTART:20210314T020000
TZOFFSETFROM:-0900
TZOFFSETTO:-0800
RDATE:20220313T020000
RDATE:20230312T020000
END:DAYLIGHT
END:VTIMEZONE
BEGIN:VEVENT
UID:576ebd32-c8ba-4080-b6ec-4521e55cf3ed
DTSTAMP:20260420T213231Z
DESCRIPTION:One of Southern  California's favorite dance bands!
DTSTART;TZID=America/Anchorage:20211022T200000
DTEND;TZID=America/Anchorage:20211022T223000
LOCATION:
SUMMARY:Rebel Heart - Modern Country Music
END:VEVENT
END:VCALENDAR
