BEGIN:VCALENDAR
VERSION:2.0
PRODID:-//www.ketchikanarts.org//NONSGML kigkonsult.se iCalcreator 2.30.10/
 /
CALSCALE:GREGORIAN
METHOD:PUBLISH
UID:79999e2d-cc02-4b32-9775-7ecbfc0375ae
X-WR-CALDESC:Monthly Board of Directors Meeting. Currently all KAAHC Board 
 meetings are held via ZOOM. If you would like to attend a Board meeting pl
 ease contact Kathleen Light for for attendance information. kathleenl@ketc
 hikanarts.org
X-WR-RELCALID:ba6af8a2e4da95e267aecfe779206b24
X-WR-TIMEZONE:America/Anchorage
BEGIN:VTIMEZONE
TZID:America/Anchorage
BEGIN:STANDARD
TZNAME:AKST
DTSTART:20201101T020000
TZOFFSETFROM:-0800
TZOFFSETTO:-0900
RDATE:20211107T020000
RDATE:20221106T020000
END:STANDARD
BEGIN:DAYLIGHT
TZNAME:AKDT
DTSTART:20210314T020000
TZOFFSETFROM:-0900
TZOFFSETTO:-0800
RDATE:20220313T020000
RDATE:20230312T020000
END:DAYLIGHT
END:VTIMEZONE
BEGIN:VEVENT
UID:8557bc42-4a82-4476-b3d0-3f0c5bcd8f2d
DTSTAMP:20260420T213428Z
DESCRIPTION:Monthly Board of Directors Meeting. Currently all KAAHC Board m
 eetings are held via ZOOM. If you would like to attend a Board meeting ple
 ase contact Kathleen Light for for attendance information. kathleenl@ketch
 ikanarts.org
DTSTART;TZID=America/Anchorage:20211020T173000
DTEND;TZID=America/Anchorage:20211020T190000
LOCATION:Main Street Gallery
SUMMARY:Ketchikan Area Arts and Humanities Board of Directors Meeting
END:VEVENT
END:VCALENDAR
