BEGIN:VCALENDAR
VERSION:2.0
PRODID:-//www.ketchikanarts.org//NONSGML kigkonsult.se iCalcreator 2.30.10/
 /
CALSCALE:GREGORIAN
METHOD:PUBLISH
UID:eaae9b47-619b-4624-94e3-6174a5436548
X-WR-CALDESC:
X-WR-RELCALID:a00c7da0d9a2d0d28972bfcf2dfcbcae
X-WR-TIMEZONE:America/Anchorage
BEGIN:VTIMEZONE
TZID:America/Anchorage
BEGIN:STANDARD
TZNAME:AKST
DTSTART:20201101T020000
TZOFFSETFROM:-0800
TZOFFSETTO:-0900
RDATE:20211107T020000
RDATE:20221106T020000
END:STANDARD
BEGIN:DAYLIGHT
TZNAME:AKDT
DTSTART:20210314T020000
TZOFFSETFROM:-0900
TZOFFSETTO:-0800
RDATE:20220313T020000
RDATE:20230312T020000
END:DAYLIGHT
END:VTIMEZONE
BEGIN:VEVENT
UID:9e68258f-bd1d-4c06-b741-c1e3f16f787b
DTSTAMP:20260420T212751Z
DESCRIPTION:
DTSTART;TZID=America/Anchorage:20211015T090000
DTEND;TZID=America/Anchorage:20211015T170000
LOCATION:
SUMMARY:Winter Arts Faire Returning Booth Holders Application Deadline
END:VEVENT
END:VCALENDAR
