BEGIN:VCALENDAR
VERSION:2.0
PRODID:-//www.ketchikanarts.org//NONSGML kigkonsult.se iCalcreator 2.30.10/
 /
CALSCALE:GREGORIAN
METHOD:PUBLISH
UID:f6b19f0b-9e2f-4b36-8a01-fccad7d1f42b
X-WR-CALDESC:
X-WR-RELCALID:7969132d8256e5b46144f7a6dcde1995
X-WR-TIMEZONE:America/Anchorage
BEGIN:VTIMEZONE
TZID:America/Anchorage
BEGIN:STANDARD
TZNAME:AKST
DTSTART:20201101T020000
TZOFFSETFROM:-0800
TZOFFSETTO:-0900
RDATE:20211107T020000
RDATE:20221106T020000
END:STANDARD
BEGIN:DAYLIGHT
TZNAME:AKDT
DTSTART:20210314T020000
TZOFFSETFROM:-0900
TZOFFSETTO:-0800
RDATE:20220313T020000
RDATE:20230312T020000
END:DAYLIGHT
END:VTIMEZONE
BEGIN:VEVENT
UID:c001f2a2-837a-461c-a96a-7f9e00a0f01d
DTSTAMP:20260420T212548Z
DESCRIPTION:
DTSTART;TZID=America/Anchorage:20211014T170000
DTEND;TZID=America/Anchorage:20211014T190000
LOCATION:
SUMMARY:Opening Reception for January exhibit
END:VEVENT
END:VCALENDAR
