BEGIN:VCALENDAR
VERSION:2.0
PRODID:-//www.ketchikanarts.org//NONSGML kigkonsult.se iCalcreator 2.30.10/
 /
CALSCALE:GREGORIAN
METHOD:PUBLISH
UID:99a02122-dc94-492c-a312-12e0bf416a55
X-WR-CALDESC:Artist Professional Development Series: Navigating Instagram w
 ith Brooke Ratzat\n
X-WR-RELCALID:815bd7aa8912627ede2611d19e0b03f4
X-WR-TIMEZONE:America/Anchorage
BEGIN:VTIMEZONE
TZID:America/Anchorage
BEGIN:STANDARD
TZNAME:AKST
DTSTART:20201101T020000
TZOFFSETFROM:-0800
TZOFFSETTO:-0900
RDATE:20211107T020000
RDATE:20221106T020000
END:STANDARD
BEGIN:DAYLIGHT
TZNAME:AKDT
DTSTART:20210314T020000
TZOFFSETFROM:-0900
TZOFFSETTO:-0800
RDATE:20220313T020000
RDATE:20230312T020000
END:DAYLIGHT
END:VTIMEZONE
BEGIN:VEVENT
UID:482415f9-b5ae-4af0-a66b-501f221b1c8c
DTSTAMP:20260420T212710Z
DESCRIPTION:Artist Professional Development Series: Navigating Instagram wi
 th Brooke Ratzat\n
DTSTART;TZID=America/Anchorage:20211014T173000
DTEND;TZID=America/Anchorage:20211014T190000
LOCATION:
SUMMARY:Navigating Instagram with Brooke Ratzat
END:VEVENT
END:VCALENDAR
