BEGIN:VCALENDAR
VERSION:2.0
PRODID:-//www.ketchikanarts.org//NONSGML kigkonsult.se iCalcreator 2.30.10/
 /
CALSCALE:GREGORIAN
METHOD:PUBLISH
UID:4c3770a5-7cf4-4a90-ac56-32dae8e51b75
X-WR-CALDESC:Join Host Jack Finnegan at the Creek Street Cabaret\nThe 2nd T
 uesday's of the month with Community Risk Level of  Moderate or lower\n'No
  Regrets'
X-WR-RELCALID:97c556d1b131e361013b44263482151b
X-WR-TIMEZONE:America/Anchorage
BEGIN:VTIMEZONE
TZID:America/Anchorage
BEGIN:STANDARD
TZNAME:AKST
DTSTART:20201101T020000
TZOFFSETFROM:-0800
TZOFFSETTO:-0900
RDATE:20211107T020000
RDATE:20221106T020000
END:STANDARD
BEGIN:DAYLIGHT
TZNAME:AKDT
DTSTART:20210314T020000
TZOFFSETFROM:-0900
TZOFFSETTO:-0800
RDATE:20220313T020000
RDATE:20230312T020000
END:DAYLIGHT
END:VTIMEZONE
BEGIN:VEVENT
UID:6932be22-8d1e-48ba-83c3-0a29c7b8f24d
DTSTAMP:20260420T212549Z
DESCRIPTION:Join Host Jack Finnegan at the Creek Street Cabaret\nThe 2nd Tu
 esday's of the month with Community Risk Level of  Moderate or lower\n'No 
 Regrets'
DTSTART;TZID=America/Anchorage:20211012T190000
DTEND;TZID=America/Anchorage:20211012T210000
LOCATION:Creek Street Cabaret
SUMMARY:Story Slam
END:VEVENT
END:VCALENDAR
