BEGIN:VCALENDAR
VERSION:2.0
PRODID:-//www.ketchikanarts.org//NONSGML kigkonsult.se iCalcreator 2.30.10/
 /
CALSCALE:GREGORIAN
METHOD:PUBLISH
UID:3e85a308-eb16-4a51-ab6c-498642f89d12
X-WR-CALDESC:•	3 Bawden Street Brewery beers for tasting \n•	A&P Brats pairin
 gs and other pairings for each beer\n•	Description and conversation about t
 he BEER from brewmaster Sean Heismann and a conversation about the develop
 ment and creation of locally made brats from Ben Williams of A&P!\n•	A play
 list to include a fine selection of polkas! \n
X-WR-RELCALID:2c8f2842b5b0290a38fddb53041ed4e9
X-WR-TIMEZONE:America/Anchorage
BEGIN:VTIMEZONE
TZID:America/Anchorage
BEGIN:STANDARD
TZNAME:AKST
DTSTART:20201101T020000
TZOFFSETFROM:-0800
TZOFFSETTO:-0900
RDATE:20211107T020000
RDATE:20221106T020000
END:STANDARD
BEGIN:DAYLIGHT
TZNAME:AKDT
DTSTART:20210314T020000
TZOFFSETFROM:-0900
TZOFFSETTO:-0800
RDATE:20220313T020000
RDATE:20230312T020000
END:DAYLIGHT
END:VTIMEZONE
BEGIN:VEVENT
UID:340c574f-7848-40f0-aee3-618d53f6e9df
DTSTAMP:20260420T213155Z
DESCRIPTION:•	3 Bawden Street Brewery beers for tasting \n•	A&P Brats pairing
 s and other pairings for each beer\n•	Description and conversation about th
 e BEER from brewmaster Sean Heismann and a conversation about the developm
 ent and creation of locally made brats from Ben Williams of A&P!\n•	A playl
 ist to include a fine selection of polkas! \n
DTSTART;TZID=America/Anchorage:20211009T190000
DTEND;TZID=America/Anchorage:20211009T210000
LOCATION:Alaska King Crab Company
SUMMARY:Beer and Brats! KAAHC's Annual Food Raiser
END:VEVENT
END:VCALENDAR
