BEGIN:VCALENDAR
VERSION:2.0
PRODID:-//www.ketchikanarts.org//NONSGML kigkonsult.se iCalcreator 2.30.10/
 /
CALSCALE:GREGORIAN
METHOD:PUBLISH
UID:c104089d-53e7-40bb-a5f9-7cf28caaa551
X-WR-CALDESC:Free and open to the public\nJoin artist Priscilla Thomas for 
 a one-hour presentation about art careers in the realm of science and spac
 e!\nClass size is limited please call the Arts Council to register 225-221
 1
X-WR-RELCALID:fcaf723cade4df264c17d98e4abdb170
X-WR-TIMEZONE:America/Anchorage
BEGIN:VTIMEZONE
TZID:America/Anchorage
BEGIN:STANDARD
TZNAME:AKST
DTSTART:20201101T020000
TZOFFSETFROM:-0800
TZOFFSETTO:-0900
RDATE:20211107T020000
RDATE:20221106T020000
END:STANDARD
BEGIN:DAYLIGHT
TZNAME:AKDT
DTSTART:20210314T020000
TZOFFSETFROM:-0900
TZOFFSETTO:-0800
RDATE:20220313T020000
RDATE:20230312T020000
END:DAYLIGHT
END:VTIMEZONE
BEGIN:VEVENT
UID:c5133d20-0d87-485e-af0c-6b40913d5a7b
DTSTAMP:20260420T212543Z
DESCRIPTION:Free and open to the public\nJoin artist Priscilla Thomas for a
  one-hour presentation about art careers in the realm of science and space
 !\nClass size is limited please call the Arts Council to register 225-2211
DTSTART;TZID=America/Anchorage:20211009T110000
DTEND;TZID=America/Anchorage:20211009T120000
LOCATION:The Main Street Gallery
SUMMARY:Artist Presentation - Priscilla Thomas
END:VEVENT
END:VCALENDAR
