BEGIN:VCALENDAR
VERSION:2.0
PRODID:-//www.ketchikanarts.org//NONSGML kigkonsult.se iCalcreator 2.30.10/
 /
CALSCALE:GREGORIAN
METHOD:PUBLISH
UID:f804e4d1-a315-41d6-bb57-7d5a77361f2c
X-WR-CALDESC:Diane Slagle hosts  blues on-demand piano bar
X-WR-RELCALID:def927f48135da102e466153417b4b87
X-WR-TIMEZONE:America/Anchorage
BEGIN:VTIMEZONE
TZID:America/Anchorage
BEGIN:STANDARD
TZNAME:AKST
DTSTART:20201101T020000
TZOFFSETFROM:-0800
TZOFFSETTO:-0900
RDATE:20211107T020000
RDATE:20221106T020000
END:STANDARD
BEGIN:DAYLIGHT
TZNAME:AKDT
DTSTART:20210314T020000
TZOFFSETFROM:-0900
TZOFFSETTO:-0800
RDATE:20220313T020000
RDATE:20230312T020000
END:DAYLIGHT
END:VTIMEZONE
BEGIN:VEVENT
UID:35e9c2e8-e84a-4ea4-9dad-d9023b3776d1
DTSTAMP:20260420T213036Z
DESCRIPTION:Diane Slagle hosts  blues on-demand piano bar
DTSTART;TZID=America/Anchorage:20211009T170000
DTEND;TZID=America/Anchorage:20211009T200000
LOCATION:Alaska Fish House
SUMMARY:Piano Bar with Diane Slagle
END:VEVENT
END:VCALENDAR
