BEGIN:VCALENDAR
VERSION:2.0
PRODID:-//www.ketchikanarts.org//NONSGML kigkonsult.se iCalcreator 2.30.10/
 /
CALSCALE:GREGORIAN
METHOD:PUBLISH
UID:c393c67f-e395-47ab-91ea-3f24c2b0991e
X-WR-CALDESC:$5 Cover
X-WR-RELCALID:ea2b355b93186d1fc68961754d940660
X-WR-TIMEZONE:America/Anchorage
BEGIN:VTIMEZONE
TZID:America/Anchorage
BEGIN:STANDARD
TZNAME:AKST
DTSTART:20201101T020000
TZOFFSETFROM:-0800
TZOFFSETTO:-0900
RDATE:20211107T020000
RDATE:20221106T020000
END:STANDARD
BEGIN:DAYLIGHT
TZNAME:AKDT
DTSTART:20210314T020000
TZOFFSETFROM:-0900
TZOFFSETTO:-0800
RDATE:20220313T020000
RDATE:20230312T020000
END:DAYLIGHT
END:VTIMEZONE
BEGIN:VEVENT
UID:1265be61-3af3-4394-b846-256a3f0b1bde
DTSTAMP:20260420T212547Z
DESCRIPTION:$5 Cover
DTSTART;TZID=America/Anchorage:20211008T210000
DTEND;TZID=America/Anchorage:20211008T230000
LOCATION:
SUMMARY:Austin Hays Trio
END:VEVENT
END:VCALENDAR
