BEGIN:VCALENDAR
VERSION:2.0
PRODID:-//www.ketchikanarts.org//NONSGML kigkonsult.se iCalcreator 2.30.10/
 /
CALSCALE:GREGORIAN
METHOD:PUBLISH
UID:715a8828-aa0c-4a42-9b8d-8baa778ca261
X-WR-CALDESC:Shannon Slagle\, Austin Hays\, Kim Henrickson\, Cullin McCormi
 ck\, Chazz Gist\, Hannah Hendrickson
X-WR-RELCALID:bd5717d524b612214e5ca5879524ea87
X-WR-TIMEZONE:America/Anchorage
BEGIN:VTIMEZONE
TZID:America/Anchorage
BEGIN:STANDARD
TZNAME:AKST
DTSTART:20201101T020000
TZOFFSETFROM:-0800
TZOFFSETTO:-0900
RDATE:20211107T020000
RDATE:20221106T020000
END:STANDARD
BEGIN:DAYLIGHT
TZNAME:AKDT
DTSTART:20210314T020000
TZOFFSETFROM:-0900
TZOFFSETTO:-0800
RDATE:20220313T020000
RDATE:20230312T020000
END:DAYLIGHT
END:VTIMEZONE
BEGIN:VEVENT
UID:015544c3-e3ad-4127-8080-b02e2f63961a
DTSTAMP:20260420T212343Z
DESCRIPTION:Shannon Slagle\, Austin Hays\, Kim Henrickson\, Cullin McCormic
 k\, Chazz Gist\, Hannah Hendrickson
DTSTART;TZID=America/Anchorage:20211002T200000
DTEND;TZID=America/Anchorage:20211002T220000
LOCATION:
SUMMARY:Shannon Slagle
END:VEVENT
END:VCALENDAR
