BEGIN:VCALENDAR
VERSION:2.0
PRODID:-//www.ketchikanarts.org//NONSGML kigkonsult.se iCalcreator 2.30.10/
 /
CALSCALE:GREGORIAN
METHOD:PUBLISH
UID:44f3090c-9773-463a-b09e-818fcf870d1a
X-WR-CALDESC:An exhibition organized and traveled by the Alaska State Museu
 m\nof the winners of the 2019 Alaska Positive photo contest. Features 38 p
 hotographs by 26 Alaskan photographers\, including local artists Mike Gate
 s\, Deborah Mercy\, and Rafael Torres. \n\nTongass Historical Museum \nTue
 sday - Saturday 1:00 pm - 5:00 pm\nFree to Locals
X-WR-RELCALID:bbeac80af769bc8273cf6622d1a53f94
X-WR-TIMEZONE:America/Anchorage
BEGIN:VTIMEZONE
TZID:America/Anchorage
BEGIN:STANDARD
TZNAME:AKST
DTSTART:20201101T020000
TZOFFSETFROM:-0800
TZOFFSETTO:-0900
RDATE:20211107T020000
RDATE:20221106T020000
END:STANDARD
BEGIN:DAYLIGHT
TZNAME:AKDT
DTSTART:20210314T020000
TZOFFSETFROM:-0900
TZOFFSETTO:-0800
RDATE:20220313T020000
RDATE:20230312T020000
END:DAYLIGHT
END:VTIMEZONE
BEGIN:VEVENT
UID:16c50cd2-ccc6-46ef-912f-360cf19891f2
DTSTAMP:20260420T181015Z
DESCRIPTION:An exhibition organized and traveled by the Alaska State Museum
 \nof the winners of the 2019 Alaska Positive photo contest. Features 38 ph
 otographs by 26 Alaskan photographers\, including local artists Mike Gates
 \, Deborah Mercy\, and Rafael Torres. \n\nTongass Historical Museum \nTues
 day - Saturday 1:00 pm - 5:00 pm\nFree to Locals
DTSTART;TZID=America/Anchorage:20211001T130000
DTEND;TZID=America/Anchorage:20211218T170000
LOCATION:
SUMMARY:Alaska Positive 2019 Exhibit
END:VEVENT
END:VCALENDAR
