BEGIN:VCALENDAR
VERSION:2.0
PRODID:-//www.ketchikanarts.org//NONSGML kigkonsult.se iCalcreator 2.30.10/
 /
CALSCALE:GREGORIAN
METHOD:PUBLISH
UID:1e95bc88-f32e-433e-bc20-fdc2e294a816
X-WR-CALDESC:In-person • October 1\, 2021 - January 3\, 2022\nFree. Open to
  the public. \n7 days a week\, 6:00 am - 6:00 pm\, 2106 Tongass Ave. Ketch
 ikan\, AK\n\nOnline • View and purchase from The Commons Online Gallery\, 
 \navailable at KetchikanArts.org\n
X-WR-RELCALID:c121f3c600eade9b25a047a58b8bc16a
X-WR-TIMEZONE:America/Anchorage
BEGIN:VTIMEZONE
TZID:America/Anchorage
BEGIN:STANDARD
TZNAME:AKST
DTSTART:20201101T020000
TZOFFSETFROM:-0800
TZOFFSETTO:-0900
RDATE:20211107T020000
RDATE:20221106T020000
END:STANDARD
BEGIN:DAYLIGHT
TZNAME:AKDT
DTSTART:20210314T020000
TZOFFSETFROM:-0900
TZOFFSETTO:-0800
RDATE:20220313T020000
RDATE:20230312T020000
END:DAYLIGHT
END:VTIMEZONE
BEGIN:VEVENT
UID:ac520dee-d094-4ba6-aa24-6729073576c1
DTSTAMP:20260420T212900Z
DESCRIPTION:In-person • October 1\, 2021 - January 3\, 2022\nFree. Open to 
 the public. \n7 days a week\, 6:00 am - 6:00 pm\, 2106 Tongass Ave. Ketchi
 kan\, AK\n\nOnline • View and purchase from The Commons Online Gallery\, 
 \navailable at KetchikanArts.org\n
DTSTART;TZID=America/Anchorage:20211001T060000
DTEND;TZID=America/Anchorage:20220103T180000
LOCATION:
SUMMARY:4th Quarter at The Commons Gallery
END:VEVENT
END:VCALENDAR
