BEGIN:VCALENDAR
VERSION:2.0
PRODID:-//www.ketchikanarts.org//NONSGML kigkonsult.se iCalcreator 2.30.10/
 /
CALSCALE:GREGORIAN
METHOD:PUBLISH
UID:6fe301d2-c9f2-40e8-bd55-5f4da62d66b3
X-WR-CALDESC:
X-WR-RELCALID:a3a0b6229c0f535e0694ac2a8f16cf63
X-WR-TIMEZONE:America/Anchorage
BEGIN:VTIMEZONE
TZID:America/Anchorage
BEGIN:STANDARD
TZNAME:AKST
DTSTART:20201101T020000
TZOFFSETFROM:-0800
TZOFFSETTO:-0900
RDATE:20211107T020000
RDATE:20221106T020000
END:STANDARD
BEGIN:DAYLIGHT
TZNAME:AKDT
DTSTART:20210314T020000
TZOFFSETFROM:-0900
TZOFFSETTO:-0800
RDATE:20220313T020000
RDATE:20230312T020000
END:DAYLIGHT
END:VTIMEZONE
BEGIN:VEVENT
UID:c2e579fc-2ce2-4954-bd7c-f1b59d2ac9ba
DTSTAMP:20260420T225629Z
DESCRIPTION:
DTSTART;TZID=America/Anchorage:20210930T180000
DTEND;TZID=America/Anchorage:20210930T190000
LOCATION:
SUMMARY:KNC City Council Forum
END:VEVENT
END:VCALENDAR
