BEGIN:VCALENDAR
VERSION:2.0
PRODID:-//www.ketchikanarts.org//NONSGML kigkonsult.se iCalcreator 2.30.10/
 /
CALSCALE:GREGORIAN
METHOD:PUBLISH
UID:49d96a66-c0ee-464d-ab0d-37bafa25296f
X-WR-CALDESC:The City of Ketchikan presents the Music on the Dock Summer Co
 ncert Series!!! A series of concerts meant to showcase local musicians to 
 our summer visitors. always 12:00 - 1:00 pm\, always free and open to the 
 public! Grab a lunch and enjoy live music on the docks of Ketchikan!
X-WR-RELCALID:0c1c4b47e3c5d1043432046bc1da5a75
X-WR-TIMEZONE:America/Anchorage
BEGIN:VTIMEZONE
TZID:America/Anchorage
BEGIN:STANDARD
TZNAME:AKST
DTSTART:20201101T020000
TZOFFSETFROM:-0800
TZOFFSETTO:-0900
RDATE:20211107T020000
RDATE:20221106T020000
END:STANDARD
BEGIN:DAYLIGHT
TZNAME:AKDT
DTSTART:20210314T020000
TZOFFSETFROM:-0900
TZOFFSETTO:-0800
RDATE:20220313T020000
RDATE:20230312T020000
END:DAYLIGHT
END:VTIMEZONE
BEGIN:VEVENT
UID:1f197832-2a11-4d57-bf65-32148f58de1c
DTSTAMP:20260420T230945Z
DESCRIPTION:The City of Ketchikan presents the Music on the Dock Summer Con
 cert Series!!! A series of concerts meant to showcase local musicians to o
 ur summer visitors. always 12:00 - 1:00 pm\, always free and open to the p
 ublic! Grab a lunch and enjoy live music on the docks of Ketchikan!
DTSTART;TZID=America/Anchorage:20210924T120000
DTEND;TZID=America/Anchorage:20210924T130000
LOCATION:Berth 2 on Sunny Days\, Berth 3 Shelter on Rainy Days
SUMMARY:Music on the Dock -New York Cafe Band
END:VEVENT
END:VCALENDAR
