BEGIN:VCALENDAR
VERSION:2.0
PRODID:-//www.ketchikanarts.org//NONSGML kigkonsult.se iCalcreator 2.30.10/
 /
CALSCALE:GREGORIAN
METHOD:PUBLISH
UID:b2f5d07b-698d-44d8-b4b9-3256489591a1
X-WR-CALDESC:Chazz Gist\, Evan Porter\, and Kalijah LeCornu playing Mandoli
 n Drums Bass\nYoung Fun Indie Rock
X-WR-RELCALID:e6b6f867e9a6801e7ad8dd2cf71a956d
X-WR-TIMEZONE:America/Anchorage
BEGIN:VTIMEZONE
TZID:America/Anchorage
BEGIN:STANDARD
TZNAME:AKST
DTSTART:20201101T020000
TZOFFSETFROM:-0800
TZOFFSETTO:-0900
RDATE:20211107T020000
RDATE:20221106T020000
END:STANDARD
BEGIN:DAYLIGHT
TZNAME:AKDT
DTSTART:20210314T020000
TZOFFSETFROM:-0900
TZOFFSETTO:-0800
RDATE:20220313T020000
RDATE:20230312T020000
END:DAYLIGHT
END:VTIMEZONE
BEGIN:VEVENT
UID:91606efd-2b0a-46a2-aab1-4a32d29dcc04
DTSTAMP:20260420T225415Z
DESCRIPTION:Chazz Gist\, Evan Porter\, and Kalijah LeCornu playing Mandolin
  Drums Bass\nYoung Fun Indie Rock
DTSTART;TZID=America/Anchorage:20210924T210000
DTEND;TZID=America/Anchorage:20210924T230000
LOCATION:
SUMMARY:Arrow Through the Knee
END:VEVENT
END:VCALENDAR
