BEGIN:VCALENDAR
VERSION:2.0
PRODID:-//www.ketchikanarts.org//NONSGML kigkonsult.se iCalcreator 2.30.10/
 /
CALSCALE:GREGORIAN
METHOD:PUBLISH
UID:caeaa287-1f02-4bf8-92c6-cf3ace92d438
X-WR-CALDESC:
X-WR-RELCALID:89a47d7d241e2a7167915c66620789ef
X-WR-TIMEZONE:America/Anchorage
BEGIN:VTIMEZONE
TZID:America/Anchorage
BEGIN:STANDARD
TZNAME:AKST
DTSTART:20201101T020000
TZOFFSETFROM:-0800
TZOFFSETTO:-0900
RDATE:20211107T020000
RDATE:20221106T020000
END:STANDARD
BEGIN:DAYLIGHT
TZNAME:AKDT
DTSTART:20210314T020000
TZOFFSETFROM:-0900
TZOFFSETTO:-0800
RDATE:20220313T020000
RDATE:20230312T020000
END:DAYLIGHT
END:VTIMEZONE
BEGIN:VEVENT
UID:63f55cfc-2d46-4ebd-95fe-57c96d062425
DTSTAMP:20260420T225410Z
DESCRIPTION:
DTSTART;TZID=America/Anchorage:20210918T140000
DTEND;TZID=America/Anchorage:20210918T160000
LOCATION:
SUMMARY:Nutcracker Auditions
END:VEVENT
END:VCALENDAR
