BEGIN:VCALENDAR
VERSION:2.0
PRODID:-//www.ketchikanarts.org//NONSGML kigkonsult.se iCalcreator 2.30.10/
 /
CALSCALE:GREGORIAN
METHOD:PUBLISH
UID:8c128aa2-3dc1-4539-9109-b95e1554780f
X-WR-CALDESC:Local Eagle Scout Robert Cope-Powell.  Put together a show of 
 local performers filmed at the Creek Street Cabaret\, “Songs by the Creek”
    featuring Leif Sivertsen\, Karl Richey\, the Wombo Combo\, Jack Finnega
 n\, and many more. for the Pioneer Home. Tune in to hear these wonderful p
 erformances Wednesday\, September 15th at 7 p.m. or Friday\, September 17t
 h at 10 a.m. on KRBD Ketchikan.
X-WR-RELCALID:ddef76b276fb9864a76b2e51e5ff5e6a
X-WR-TIMEZONE:America/Anchorage
BEGIN:VTIMEZONE
TZID:America/Anchorage
BEGIN:STANDARD
TZNAME:AKST
DTSTART:20201101T020000
TZOFFSETFROM:-0800
TZOFFSETTO:-0900
RDATE:20211107T020000
RDATE:20221106T020000
END:STANDARD
BEGIN:DAYLIGHT
TZNAME:AKDT
DTSTART:20210314T020000
TZOFFSETFROM:-0900
TZOFFSETTO:-0800
RDATE:20220313T020000
RDATE:20230312T020000
END:DAYLIGHT
END:VTIMEZONE
BEGIN:VEVENT
UID:16d1d6f2-5782-4b4b-8b24-f03425543ceb
DTSTAMP:20260420T225757Z
DESCRIPTION:Local Eagle Scout Robert Cope-Powell.  Put together a show of l
 ocal performers filmed at the Creek Street Cabaret\, “Songs by the Creek” 
   featuring Leif Sivertsen\, Karl Richey\, the Wombo Combo\, Jack Finnegan
 \, and many more. for the Pioneer Home. Tune in to hear these wonderful pe
 rformances Wednesday\, September 15th at 7 p.m. or Friday\, September 17th
  at 10 a.m. on KRBD Ketchikan.
DTSTART;TZID=America/Anchorage:20210917T100000
DTEND;TZID=America/Anchorage:20210917T110000
LOCATION:
SUMMARY:Songs by the Creek
END:VEVENT
END:VCALENDAR
