BEGIN:VCALENDAR
VERSION:2.0
PRODID:-//www.ketchikanarts.org//NONSGML kigkonsult.se iCalcreator 2.30.10/
 /
CALSCALE:GREGORIAN
METHOD:PUBLISH
UID:42acc054-1f3c-48d8-b832-d04dfacb57ac
X-WR-CALDESC:Diane Slagle hosts '80's to Now' trivia and blues on-demand pi
 ano bar
X-WR-RELCALID:8b7a59e12d2e7e7d0c72043120db611a
X-WR-TIMEZONE:America/Anchorage
BEGIN:VTIMEZONE
TZID:America/Anchorage
BEGIN:STANDARD
TZNAME:AKST
DTSTART:20201101T020000
TZOFFSETFROM:-0800
TZOFFSETTO:-0900
RDATE:20211107T020000
RDATE:20221106T020000
END:STANDARD
BEGIN:DAYLIGHT
TZNAME:AKDT
DTSTART:20210314T020000
TZOFFSETFROM:-0900
TZOFFSETTO:-0800
RDATE:20220313T020000
RDATE:20230312T020000
END:DAYLIGHT
END:VTIMEZONE
BEGIN:VEVENT
UID:d2b7fd16-81e9-4a98-8106-9beb3d75ffa9
DTSTAMP:20260420T231319Z
DESCRIPTION:Diane Slagle hosts '80's to Now' trivia and blues on-demand pia
 no bar
DTSTART;TZID=America/Anchorage:20210915T170000
DTEND;TZID=America/Anchorage:20210915T200000
LOCATION:Fat Stans
SUMMARY:Over the Hump Piano Bar and Trivia
END:VEVENT
END:VCALENDAR
