BEGIN:VCALENDAR
VERSION:2.0
PRODID:-//www.ketchikanarts.org//NONSGML kigkonsult.se iCalcreator 2.30.10/
 /
CALSCALE:GREGORIAN
METHOD:PUBLISH
UID:1758e20d-8fe1-41ac-b8a4-870ca2bd6b20
X-WR-CALDESC:Visit participating businesses and read all about Alaska Women
  and the vote in the 1010 and 1920's
X-WR-RELCALID:6d82aa9b3a6335632e5aeb7b87833d9b
X-WR-TIMEZONE:America/Anchorage
BEGIN:VTIMEZONE
TZID:America/Anchorage
BEGIN:STANDARD
TZNAME:AKST
DTSTART:20201101T020000
TZOFFSETFROM:-0800
TZOFFSETTO:-0900
RDATE:20211107T020000
RDATE:20221106T020000
END:STANDARD
BEGIN:DAYLIGHT
TZNAME:AKDT
DTSTART:20210314T020000
TZOFFSETFROM:-0900
TZOFFSETTO:-0800
RDATE:20220313T020000
RDATE:20230312T020000
END:DAYLIGHT
END:VTIMEZONE
BEGIN:VEVENT
UID:a0fd24e0-3334-4a80-89c0-e6d68a86536c
DTSTAMP:20260420T212549Z
DESCRIPTION:Visit participating businesses and read all about Alaska Women 
 and the vote in the 1010 and 1920's
DTSTART;TZID=America/Anchorage:20210913T130000
DTEND;TZID=America/Anchorage:20211001T140000
LOCATION:
SUMMARY:Alaska's Suffrage Star
END:VEVENT
END:VCALENDAR
