BEGIN:VCALENDAR
VERSION:2.0
PRODID:-//www.ketchikanarts.org//NONSGML kigkonsult.se iCalcreator 2.30.10/
 /
CALSCALE:GREGORIAN
METHOD:PUBLISH
UID:bb8ff67b-526c-4881-b278-22ca20cb43a3
X-WR-CALDESC:Live music from Dave Rubin\, Hannah Kerick\, and Chazz Gist\n
X-WR-RELCALID:b101dd8e07889a4dee811eddbe3b2174
X-WR-TIMEZONE:America/Anchorage
BEGIN:VTIMEZONE
TZID:America/Anchorage
BEGIN:STANDARD
TZNAME:AKST
DTSTART:20201101T020000
TZOFFSETFROM:-0800
TZOFFSETTO:-0900
RDATE:20211107T020000
RDATE:20221106T020000
END:STANDARD
BEGIN:DAYLIGHT
TZNAME:AKDT
DTSTART:20210314T020000
TZOFFSETFROM:-0900
TZOFFSETTO:-0800
RDATE:20220313T020000
RDATE:20230312T020000
END:DAYLIGHT
END:VTIMEZONE
BEGIN:VEVENT
UID:8f16593f-e83c-468f-81dd-ef0a99476082
DTSTAMP:20260420T231559Z
DESCRIPTION:Live music from Dave Rubin\, Hannah Kerick\, and Chazz Gist\n
DTSTART;TZID=America/Anchorage:20210912T120000
DTEND;TZID=America/Anchorage:20210912T140000
LOCATION:Alaska Fish House
SUMMARY:Dave\, Hannah\, and Chazz at the Alaska Fish House
END:VEVENT
END:VCALENDAR
