BEGIN:VCALENDAR
VERSION:2.0
PRODID:-//www.ketchikanarts.org//NONSGML kigkonsult.se iCalcreator 2.30.10/
 /
CALSCALE:GREGORIAN
METHOD:PUBLISH
UID:bed0b51e-5515-4210-981f-f6414ee314eb
X-WR-CALDESC:Obvious Jazz\, \nRob Holston sings vocals\, plays sax\, trumpe
 t\, trombone\, and flute. The one-man-band plays pieces from the 'American
  Song Book'
X-WR-RELCALID:f2f4e5a740d31ba49fab57983c6584ef
X-WR-TIMEZONE:America/Anchorage
BEGIN:VTIMEZONE
TZID:America/Anchorage
BEGIN:STANDARD
TZNAME:AKST
DTSTART:20201101T020000
TZOFFSETFROM:-0800
TZOFFSETTO:-0900
RDATE:20211107T020000
RDATE:20221106T020000
END:STANDARD
BEGIN:DAYLIGHT
TZNAME:AKDT
DTSTART:20210314T020000
TZOFFSETFROM:-0900
TZOFFSETTO:-0800
RDATE:20220313T020000
END:DAYLIGHT
END:VTIMEZONE
BEGIN:VEVENT
UID:72037d1e-b9f2-4763-803f-e9c6fbae9f6b
DTSTAMP:20260420T225504Z
DESCRIPTION:Obvious Jazz\, \nRob Holston sings vocals\, plays sax\, trumpet
 \, trombone\, and flute. The one-man-band plays pieces from the 'American 
 Song Book'
DTSTART;TZID=America/Anchorage:20210908T180000
DTEND;TZID=America/Anchorage:20210908T200000
LOCATION:
SUMMARY:Obvious Jazz
END:VEVENT
END:VCALENDAR
