BEGIN:VCALENDAR
VERSION:2.0
PRODID:-//www.ketchikanarts.org//NONSGML kigkonsult.se iCalcreator 2.30.10/
 /
CALSCALE:GREGORIAN
METHOD:PUBLISH
UID:52405713-f277-4718-8d87-281e04055445
X-WR-CALDESC:Diane Slagle hosts '80's to Now' trivia and blues on-demand pi
 ano bar
X-WR-RELCALID:9570756c63c1f4dbc6ffb05c87d621b6
X-WR-TIMEZONE:America/Anchorage
BEGIN:VTIMEZONE
TZID:America/Anchorage
BEGIN:STANDARD
TZNAME:AKST
DTSTART:20201101T020000
TZOFFSETFROM:-0800
TZOFFSETTO:-0900
RDATE:20211107T020000
RDATE:20221106T020000
END:STANDARD
BEGIN:DAYLIGHT
TZNAME:AKDT
DTSTART:20210314T020000
TZOFFSETFROM:-0900
TZOFFSETTO:-0800
RDATE:20220313T020000
END:DAYLIGHT
END:VTIMEZONE
BEGIN:VEVENT
UID:5a004a0a-305d-49b9-b873-d19c7cd36969
DTSTAMP:20260420T231255Z
DESCRIPTION:Diane Slagle hosts '80's to Now' trivia and blues on-demand pia
 no bar
DTSTART;TZID=America/Anchorage:20210908T170000
DTEND;TZID=America/Anchorage:20210908T200000
LOCATION:Fat Stans
SUMMARY:Over the Hump Piano Bar and Trivia
END:VEVENT
END:VCALENDAR
