BEGIN:VCALENDAR
VERSION:2.0
PRODID:-//www.ketchikanarts.org//NONSGML kigkonsult.se iCalcreator 2.30.10/
 /
CALSCALE:GREGORIAN
METHOD:PUBLISH
UID:51ce4f0b-e385-471e-92b4-bb6e98e245d4
X-WR-CALDESC:Kicking off the Main Street Gallery Season is Visions of Natur
 e - Two Generations in Wax!!!!\nOpening Reception September 3rd\, 5 - 7:00
  pm\nThe in-person exhibit is available at 330 Main Street\, September 3 -
  24\, 2021 \nArtists Sandy Shepard and Laurel Shepard Kvale celebrate a mo
 ther and daughter’s shared love of working in oil and cold wax\, encaustic
 \, acrylic\, photography\, and mixed media.\n
X-WR-RELCALID:f5277510ed2d1472f2334c3869f488ad
X-WR-TIMEZONE:America/Anchorage
BEGIN:VTIMEZONE
TZID:America/Anchorage
BEGIN:STANDARD
TZNAME:AKST
DTSTART:20201101T020000
TZOFFSETFROM:-0800
TZOFFSETTO:-0900
RDATE:20211107T020000
RDATE:20221106T020000
END:STANDARD
BEGIN:DAYLIGHT
TZNAME:AKDT
DTSTART:20210314T020000
TZOFFSETFROM:-0900
TZOFFSETTO:-0800
RDATE:20220313T020000
END:DAYLIGHT
END:VTIMEZONE
BEGIN:VEVENT
UID:6e893d9b-4eec-4969-a7a1-2cbdcfae0049
DTSTAMP:20260420T230401Z
DESCRIPTION:Kicking off the Main Street Gallery Season is Visions of Nature
  - Two Generations in Wax!!!!\nOpening Reception September 3rd\, 5 - 7:00 
 pm\nThe in-person exhibit is available at 330 Main Street\, September 3 - 
 24\, 2021 \nArtists Sandy Shepard and Laurel Shepard Kvale celebrate a mot
 her and daughter’s shared love of working in oil and cold wax\, encaustic\
 , acrylic\, photography\, and mixed media.\n
DTSTART;TZID=America/Anchorage:20210906T170000
DTEND;TZID=America/Anchorage:20210924T150000
LOCATION:Main Street Gallery\, 330 Main Street\, Ketchikan\, AK 99901 US
SUMMARY:Visions of Nature - Two Generations in Wax
END:VEVENT
END:VCALENDAR
