BEGIN:VCALENDAR
VERSION:2.0
PRODID:-//www.ketchikanarts.org//NONSGML kigkonsult.se iCalcreator 2.30.10/
 /
CALSCALE:GREGORIAN
METHOD:PUBLISH
UID:7c1649aa-b61d-4db7-b8a5-8a8a20c3e550
X-WR-CALDESC:
X-WR-RELCALID:d0818fc00c390fae1ca0cbfb0ee9ccba
X-WR-TIMEZONE:America/Anchorage
BEGIN:VTIMEZONE
TZID:America/Anchorage
BEGIN:STANDARD
TZNAME:AKST
DTSTART:20201101T020000
TZOFFSETFROM:-0800
TZOFFSETTO:-0900
RDATE:20211107T020000
RDATE:20221106T020000
END:STANDARD
BEGIN:DAYLIGHT
TZNAME:AKDT
DTSTART:20210314T020000
TZOFFSETFROM:-0900
TZOFFSETTO:-0800
RDATE:20220313T020000
END:DAYLIGHT
END:VTIMEZONE
BEGIN:VEVENT
UID:1f8f71fd-018e-4d58-a324-b119eebc2ab4
DTSTAMP:20260420T230844Z
DESCRIPTION:
DTSTART;TZID=America/Anchorage:20210905T190000
DTEND;TZID=America/Anchorage:20210905T210000
LOCATION:
SUMMARY:Forest Grove Outlaws with T-Bone and Little Buck
END:VEVENT
END:VCALENDAR
