BEGIN:VCALENDAR
VERSION:2.0
PRODID:-//www.ketchikanarts.org//NONSGML kigkonsult.se iCalcreator 2.30.10/
 /
CALSCALE:GREGORIAN
METHOD:PUBLISH
UID:f5c88ab1-6a4f-4530-b114-c1a2f6bd2065
X-WR-CALDESC:Walk around Ward Lake and enjoy vignettes\, monologues\, of in
 dividual writers and performers. Tickets are available soon!
X-WR-RELCALID:96dc46af59337bb95fe7ac330edb1cf6
X-WR-TIMEZONE:America/Anchorage
BEGIN:VTIMEZONE
TZID:America/Anchorage
BEGIN:STANDARD
TZNAME:AKST
DTSTART:20201101T020000
TZOFFSETFROM:-0800
TZOFFSETTO:-0900
RDATE:20211107T020000
RDATE:20221106T020000
END:STANDARD
BEGIN:DAYLIGHT
TZNAME:AKDT
DTSTART:20210314T020000
TZOFFSETFROM:-0900
TZOFFSETTO:-0800
RDATE:20220313T020000
END:DAYLIGHT
END:VTIMEZONE
BEGIN:VEVENT
UID:c8c16195-f467-4ce2-be96-690be6f2a0f5
DTSTAMP:20260420T225626Z
DESCRIPTION:Walk around Ward Lake and enjoy vignettes\, monologues\, of ind
 ividual writers and performers. Tickets are available soon!
DTSTART;TZID=America/Anchorage:20210904T170000
DTEND;TZID=America/Anchorage:20210904T190000
LOCATION:
SUMMARY:Ward Lake Theatre Walk
END:VEVENT
END:VCALENDAR
