BEGIN:VCALENDAR
VERSION:2.0
PRODID:-//www.ketchikanarts.org//NONSGML kigkonsult.se iCalcreator 2.30.10/
 /
CALSCALE:GREGORIAN
METHOD:PUBLISH
UID:7a677efc-d306-4d1c-a424-a5a23906fe50
X-WR-CALDESC:Submit one of two proposals to exhibit artwork at The Commons 
 Gallery\, Ketchikan’s newest gallery space\, located in one of Ketchikan’s
  newest gathering spots\, The Commons at TFCU. The overall focus of the ne
 w space is to support and encourage entrepreneurial efforts by providing t
 emporary office space\, meeting spaces\, and small business assistance. In
  addition\, TFCU has built a coffee bar and restaurant in the space which 
 creates a commons area. It is in this commons area that The Commons Galler
 y lives. In the entrepreneurial spirit of the venue\, artists are invited 
 to exhibit in two different ways. The vision for the Commons Gallery is to
  help inspire emerging and established artists by providing flexible exhib
 it space for artists working in all mediums.
X-WR-RELCALID:b8a691c27a47656539c26d42f7f40c63
X-WR-TIMEZONE:America/Anchorage
BEGIN:VTIMEZONE
TZID:America/Anchorage
BEGIN:STANDARD
TZNAME:AKST
DTSTART:20201101T020000
TZOFFSETFROM:-0800
TZOFFSETTO:-0900
RDATE:20211107T020000
RDATE:20221106T020000
END:STANDARD
BEGIN:DAYLIGHT
TZNAME:AKDT
DTSTART:20210314T020000
TZOFFSETFROM:-0900
TZOFFSETTO:-0800
RDATE:20220313T020000
END:DAYLIGHT
END:VTIMEZONE
BEGIN:VEVENT
UID:b34bf051-a2cf-4ceb-be08-b0c75ac35e2b
DTSTAMP:20260420T225608Z
DESCRIPTION:Submit one of two proposals to exhibit artwork at The Commons G
 allery\, Ketchikan’s newest gallery space\, located in one of Ketchikan’s 
 newest gathering spots\, The Commons at TFCU. The overall focus of the new
  space is to support and encourage entrepreneurial efforts by providing te
 mporary office space\, meeting spaces\, and small business assistance. In 
 addition\, TFCU has built a coffee bar and restaurant in the space which c
 reates a commons area. It is in this commons area that The Commons Gallery
  lives. In the entrepreneurial spirit of the venue\, artists are invited t
 o exhibit in two different ways. The vision for the Commons Gallery is to 
 help inspire emerging and established artists by providing flexible exhibi
 t space for artists working in all mediums.
DTSTART;TZID=America/Anchorage:20210903T090000
DTEND;TZID=America/Anchorage:20210903T170000
LOCATION:https://www.ketchikanarts.org/galleries/the-commons-gallery/inform
 ation-for-exhibiting-artists/
SUMMARY:The Commons Gallery Submission Deadline
END:VEVENT
END:VCALENDAR
