BEGIN:VCALENDAR
VERSION:2.0
PRODID:-//www.ketchikanarts.org//NONSGML kigkonsult.se iCalcreator 2.30.10/
 /
CALSCALE:GREGORIAN
METHOD:PUBLISH
UID:3d68edce-c7a2-494e-95ef-7445a5ca9930
X-WR-CALDESC:Kicking off the Main Street Gallery Season is Visions of Natur
 e - Two Generations in Wax!!!!\nOpening Reception September 3rd\, 5 - 7:00
  pm\nExhibit :September 3 - 24\, 2021 \nArtists Sandy Shepard and Laurel S
 hepard Kvale celebrate a mother and daughter’s shared love of working in o
 il and cold wax\, encaustic\, acrylic\, photography\, and mixed media.\n
X-WR-RELCALID:a778746e26204d54a2522d0fd21ed255
X-WR-TIMEZONE:America/Anchorage
BEGIN:VTIMEZONE
TZID:America/Anchorage
BEGIN:STANDARD
TZNAME:AKST
DTSTART:20201101T020000
TZOFFSETFROM:-0800
TZOFFSETTO:-0900
RDATE:20211107T020000
RDATE:20221106T020000
END:STANDARD
BEGIN:DAYLIGHT
TZNAME:AKDT
DTSTART:20210314T020000
TZOFFSETFROM:-0900
TZOFFSETTO:-0800
RDATE:20220313T020000
END:DAYLIGHT
END:VTIMEZONE
BEGIN:VEVENT
UID:f05fe4aa-d6cb-4176-b0f6-106a3de789b1
DTSTAMP:20260420T230945Z
DESCRIPTION:Kicking off the Main Street Gallery Season is Visions of Nature
  - Two Generations in Wax!!!!\nOpening Reception September 3rd\, 5 - 7:00 
 pm\nExhibit :September 3 - 24\, 2021 \nArtists Sandy Shepard and Laurel Sh
 epard Kvale celebrate a mother and daughter’s shared love of working in oi
 l and cold wax\, encaustic\, acrylic\, photography\, and mixed media.\n
DTSTART;TZID=America/Anchorage:20210903T170000
DTEND;TZID=America/Anchorage:20210903T190000
LOCATION:Main Street Gallery\, 330 Main Street\, Ketchikan\, AK 99901 US
SUMMARY:Opening Reception - Visions of Nature - Two Generations in Wax
END:VEVENT
END:VCALENDAR
